BEGIN:VCALENDAR
VERSION:2.0
PRODID:-//Villa Charities - ECPv6.15.20//NONSGML v1.0//EN
CALSCALE:GREGORIAN
METHOD:PUBLISH
X-ORIGINAL-URL:https://www.villacharities.com
X-WR-CALDESC:Events for Villa Charities
REFRESH-INTERVAL;VALUE=DURATION:PT1H
X-Robots-Tag:noindex
X-PUBLISHED-TTL:PT1H
BEGIN:VTIMEZONE
TZID:America/Toronto
BEGIN:DAYLIGHT
TZOFFSETFROM:-0500
TZOFFSETTO:-0400
TZNAME:EDT
DTSTART:20230312T070000
END:DAYLIGHT
BEGIN:STANDARD
TZOFFSETFROM:-0400
TZOFFSETTO:-0500
TZNAME:EST
DTSTART:20231105T060000
END:STANDARD
BEGIN:DAYLIGHT
TZOFFSETFROM:-0500
TZOFFSETTO:-0400
TZNAME:EDT
DTSTART:20240310T070000
END:DAYLIGHT
BEGIN:STANDARD
TZOFFSETFROM:-0400
TZOFFSETTO:-0500
TZNAME:EST
DTSTART:20241103T060000
END:STANDARD
BEGIN:DAYLIGHT
TZOFFSETFROM:-0500
TZOFFSETTO:-0400
TZNAME:EDT
DTSTART:20250309T070000
END:DAYLIGHT
BEGIN:STANDARD
TZOFFSETFROM:-0400
TZOFFSETTO:-0500
TZNAME:EST
DTSTART:20251102T060000
END:STANDARD
END:VTIMEZONE
BEGIN:VEVENT
DTSTART;TZID=America/Toronto:20240428T150000
DTEND;TZID=America/Toronto:20240428T170000
DTSTAMP:20260425T135237
CREATED:20240401T161021Z
LAST-MODIFIED:20240401T161319Z
UID:10000118-1714316400-1714323600@www.villacharities.com
SUMMARY:Italian Fallen Workers Memorial Ceremony
DESCRIPTION:The annual ceremony to honour the more than 1\,600 Italian fallen workers who have lost their lives to workplace tragedies in Canada.
URL:https://www.villacharities.com/events/italian-fallen-workers-memorial-ceremony/
LOCATION:Italian Fallen Workers Memorial Wall\, Columbus Centre\, 901 Lawrence Ave W.\, North York\, Ontario\, M6A 1C3
END:VEVENT
END:VCALENDAR