BEGIN:VCALENDAR
VERSION:2.0
PRODID:-//Villa Charities - ECPv6.15.20//NONSGML v1.0//EN
CALSCALE:GREGORIAN
METHOD:PUBLISH
X-WR-CALNAME:Villa Charities
X-ORIGINAL-URL:https://www.villacharities.com
X-WR-CALDESC:Events for Villa Charities
REFRESH-INTERVAL;VALUE=DURATION:PT1H
X-Robots-Tag:noindex
X-PUBLISHED-TTL:PT1H
BEGIN:VTIMEZONE
TZID:America/Toronto
BEGIN:DAYLIGHT
TZOFFSETFROM:-0500
TZOFFSETTO:-0400
TZNAME:EDT
DTSTART:20230312T070000
END:DAYLIGHT
BEGIN:STANDARD
TZOFFSETFROM:-0400
TZOFFSETTO:-0500
TZNAME:EST
DTSTART:20231105T060000
END:STANDARD
BEGIN:DAYLIGHT
TZOFFSETFROM:-0500
TZOFFSETTO:-0400
TZNAME:EDT
DTSTART:20240310T070000
END:DAYLIGHT
BEGIN:STANDARD
TZOFFSETFROM:-0400
TZOFFSETTO:-0500
TZNAME:EST
DTSTART:20241103T060000
END:STANDARD
BEGIN:DAYLIGHT
TZOFFSETFROM:-0500
TZOFFSETTO:-0400
TZNAME:EDT
DTSTART:20250309T070000
END:DAYLIGHT
BEGIN:STANDARD
TZOFFSETFROM:-0400
TZOFFSETTO:-0500
TZNAME:EST
DTSTART:20251102T060000
END:STANDARD
END:VTIMEZONE
BEGIN:VEVENT
DTSTART;TZID=America/Toronto:20240829T200000
DTEND;TZID=America/Toronto:20240829T220000
DTSTAMP:20260421T191940
CREATED:20240731T211505Z
LAST-MODIFIED:20240731T211505Z
UID:10000162-1724961600-1724968800@www.villacharities.com
SUMMARY:“Cinema Sotto le Stelle” - “La Luce nella Masseria”
DESCRIPTION:Join us for a magical evening under the stars with classic Italian films. 
URL:https://www.villacharities.com/events/cinema-sotto-le-stelle-la-luce-nella-masseria/
LOCATION:Caffe Cinquecento\, Columbus Centre
END:VEVENT
END:VCALENDAR