BEGIN:VCALENDAR
VERSION:2.0
PRODID:-//Villa Charities - ECPv6.15.20//NONSGML v1.0//EN
CALSCALE:GREGORIAN
METHOD:PUBLISH
X-WR-CALNAME:Villa Charities
X-ORIGINAL-URL:https://www.villacharities.com
X-WR-CALDESC:Events for Villa Charities
REFRESH-INTERVAL;VALUE=DURATION:PT1H
X-Robots-Tag:noindex
X-PUBLISHED-TTL:PT1H
BEGIN:VTIMEZONE
TZID:America/Toronto
BEGIN:DAYLIGHT
TZOFFSETFROM:-0500
TZOFFSETTO:-0400
TZNAME:EDT
DTSTART:20250309T070000
END:DAYLIGHT
BEGIN:STANDARD
TZOFFSETFROM:-0400
TZOFFSETTO:-0500
TZNAME:EST
DTSTART:20251102T060000
END:STANDARD
BEGIN:DAYLIGHT
TZOFFSETFROM:-0500
TZOFFSETTO:-0400
TZNAME:EDT
DTSTART:20260308T070000
END:DAYLIGHT
BEGIN:STANDARD
TZOFFSETFROM:-0400
TZOFFSETTO:-0500
TZNAME:EST
DTSTART:20261101T060000
END:STANDARD
BEGIN:DAYLIGHT
TZOFFSETFROM:-0500
TZOFFSETTO:-0400
TZNAME:EDT
DTSTART:20270314T070000
END:DAYLIGHT
BEGIN:STANDARD
TZOFFSETFROM:-0400
TZOFFSETTO:-0500
TZNAME:EST
DTSTART:20271107T060000
END:STANDARD
END:VTIMEZONE
BEGIN:VEVENT
DTSTART;TZID=America/Toronto:20260602T071500
DTEND;TZID=America/Toronto:20260602T140000
DTSTAMP:20260420T062414
CREATED:20260415T131748Z
LAST-MODIFIED:20260415T131938Z
UID:10000414-1780384500-1780408800@www.villacharities.com
SUMMARY:Villa Colombo Toronto Auxiliary (VCTA) 35th Annual Golf Tournament
DESCRIPTION:
URL:https://www.villacharities.com/events/villa-colombo-toronto-auxiliary-vcta-35th-annual-golf-tournament/
LOCATION:Glen Eagle Golf Club\, 15731 Peel Regional Rd 50\, Bolton\, Ontario\, L7E 3H9\, Canada
END:VEVENT
BEGIN:VEVENT
DTSTART;TZID=America/Toronto:20260602T183000
DTEND;TZID=America/Toronto:20260602T203000
DTSTAMP:20260420T062414
CREATED:20260408T190638Z
LAST-MODIFIED:20260409T155605Z
UID:10000407-1780425000-1780432200@www.villacharities.com
SUMMARY:Pasta-Making Classes: Classics of Nonna’s Table - Gnocchi di Ricotta al Burro e Salvia
DESCRIPTION:A hands‑on pasta‑making class where timeless Italian home recipes and regional traditions come to life\, guided by Chef Luciano Schipano.
URL:https://www.villacharities.com/events/pasta-making-classes-classics-of-nonnas-table-gnocchi-di-ricotta-al-burro-e-salvia/
LOCATION:Columbus Room\, Columbus Centre\, 901 Lawrence Avenue West\, Toronto\, ON\, M6A 1C3\, Canada
END:VEVENT
BEGIN:VEVENT
DTSTART;TZID=America/Toronto:20260602T190000
DTEND;TZID=America/Toronto:20260602T203000
DTSTAMP:20260420T062414
CREATED:20260410T134056Z
LAST-MODIFIED:20260410T134056Z
UID:10000413-1780426800-1780432200@www.villacharities.com
SUMMARY:Festa della Repubblica – Coro San Marco
DESCRIPTION:Join Coro San Marco for a special Festa della Repubblica concert celebrating Italy’s national holiday through timeless operatic masterpieces.
URL:https://www.villacharities.com/events/festa-della-repubblica-coro-san-marco/
LOCATION:Joseph D. Carrier Art Gallery\, Columbus Centre\, 901 Lawrence Ave W\, Toronto\, Ontario\, M6A 1C3\, Canada
END:VEVENT
END:VCALENDAR