BEGIN:VCALENDAR
VERSION:2.0
PRODID:-//Villa Charities - ECPv6.15.20//NONSGML v1.0//EN
CALSCALE:GREGORIAN
METHOD:PUBLISH
X-WR-CALNAME:Villa Charities
X-ORIGINAL-URL:https://www.villacharities.com
X-WR-CALDESC:Events for Villa Charities
REFRESH-INTERVAL;VALUE=DURATION:PT1H
X-Robots-Tag:noindex
X-PUBLISHED-TTL:PT1H
BEGIN:VTIMEZONE
TZID:America/Toronto
BEGIN:DAYLIGHT
TZOFFSETFROM:-0500
TZOFFSETTO:-0400
TZNAME:EDT
DTSTART:20250309T070000
END:DAYLIGHT
BEGIN:STANDARD
TZOFFSETFROM:-0400
TZOFFSETTO:-0500
TZNAME:EST
DTSTART:20251102T060000
END:STANDARD
BEGIN:DAYLIGHT
TZOFFSETFROM:-0500
TZOFFSETTO:-0400
TZNAME:EDT
DTSTART:20260308T070000
END:DAYLIGHT
BEGIN:STANDARD
TZOFFSETFROM:-0400
TZOFFSETTO:-0500
TZNAME:EST
DTSTART:20261101T060000
END:STANDARD
BEGIN:DAYLIGHT
TZOFFSETFROM:-0500
TZOFFSETTO:-0400
TZNAME:EDT
DTSTART:20270314T070000
END:DAYLIGHT
BEGIN:STANDARD
TZOFFSETFROM:-0400
TZOFFSETTO:-0500
TZNAME:EST
DTSTART:20271107T060000
END:STANDARD
END:VTIMEZONE
BEGIN:VEVENT
DTSTART;TZID=America/Toronto:20260630T123000
DTEND;TZID=America/Toronto:20260630T153000
DTSTAMP:20260423T012303
CREATED:20260312T204637Z
LAST-MODIFIED:20260312T204637Z
UID:10000393-1782822600-1782833400@www.villacharities.com
SUMMARY:Artista Painting – Spring Workshop Ends
DESCRIPTION:7-week oil and acrylics Artista Painting Workshop with Sam Paonessa ends.
URL:https://www.villacharities.com/events/artista-painting-spring-workshop-ends/
LOCATION:Joseph D. Carrier Art Gallery\, Columbus Centre\, 901 Lawrence Ave W\, Toronto\, Ontario\, M6A 1C3\, Canada
END:VEVENT
BEGIN:VEVENT
DTSTART;TZID=America/Toronto:20260630T183000
DTEND;TZID=America/Toronto:20260630T203000
DTSTAMP:20260423T012303
CREATED:20260408T191159Z
LAST-MODIFIED:20260409T155818Z
UID:10000411-1782844200-1782851400@www.villacharities.com
SUMMARY:Pasta-Making Classes: Classics of Nonna’s Table - Cavatelli
DESCRIPTION:A hands‑on pasta‑making class where timeless Italian home recipes and regional traditions come to life\, guided by Chef Luciano Schipano.
URL:https://www.villacharities.com/events/pasta-making-classes-classics-of-nonnas-table-cavatelli/
LOCATION:Columbus Room\, Columbus Centre\, 901 Lawrence Avenue West\, Toronto\, ON\, M6A 1C3\, Canada
END:VEVENT
END:VCALENDAR