BEGIN:VCALENDAR
VERSION:2.0
PRODID:-//Villa Charities - ECPv6.15.20//NONSGML v1.0//EN
CALSCALE:GREGORIAN
METHOD:PUBLISH
X-WR-CALNAME:Villa Charities
X-ORIGINAL-URL:https://www.villacharities.com
X-WR-CALDESC:Events for Villa Charities
REFRESH-INTERVAL;VALUE=DURATION:PT1H
X-Robots-Tag:noindex
X-PUBLISHED-TTL:PT1H
BEGIN:VTIMEZONE
TZID:America/Toronto
BEGIN:DAYLIGHT
TZOFFSETFROM:-0500
TZOFFSETTO:-0400
TZNAME:EDT
DTSTART:20230312T070000
END:DAYLIGHT
BEGIN:STANDARD
TZOFFSETFROM:-0400
TZOFFSETTO:-0500
TZNAME:EST
DTSTART:20231105T060000
END:STANDARD
BEGIN:DAYLIGHT
TZOFFSETFROM:-0500
TZOFFSETTO:-0400
TZNAME:EDT
DTSTART:20240310T070000
END:DAYLIGHT
BEGIN:STANDARD
TZOFFSETFROM:-0400
TZOFFSETTO:-0500
TZNAME:EST
DTSTART:20241103T060000
END:STANDARD
BEGIN:DAYLIGHT
TZOFFSETFROM:-0500
TZOFFSETTO:-0400
TZNAME:EDT
DTSTART:20250309T070000
END:DAYLIGHT
BEGIN:STANDARD
TZOFFSETFROM:-0400
TZOFFSETTO:-0500
TZNAME:EST
DTSTART:20251102T060000
END:STANDARD
END:VTIMEZONE
BEGIN:VEVENT
DTSTART;TZID=America/Toronto:20240702T090000
DTEND;TZID=America/Toronto:20240702T170000
DTSTAMP:20260424T094430
CREATED:20240226T204917Z
LAST-MODIFIED:20240226T204938Z
UID:10000001-1719910800-1719939600@www.villacharities.com
SUMMARY:Summer Camp at the Columbus Centre - Opens
DESCRIPTION:
URL:https://www.villacharities.com/events/summer-camp-at-the-columbus-centre-opens/
LOCATION:Columbus Centre\, 901 Lawrence Avenue West\, Toronto\, ON\, M6A 1C3\, Canada
END:VEVENT
BEGIN:VEVENT
DTSTART;TZID=America/Toronto:20240702T190000
DTEND;TZID=America/Toronto:20240702T200000
DTSTAMP:20260424T094430
CREATED:20240617T191009Z
LAST-MODIFIED:20240617T191009Z
UID:10000153-1719946800-1719950400@www.villacharities.com
SUMMARY:Meet & Greet with Neri Marcorè
DESCRIPTION:Meet and greet with Neri Marcorè\, the multifaceted actor\, dubber\, singer and television and radio host.
URL:https://www.villacharities.com/events/meet-greet-with-neri-marcore/
LOCATION:Joseph D. Carrier Art Gallery\, Columbus Centre\, 901 Lawrence Ave W\, Toronto\, Ontario\, M6A 1C3\, Canada
END:VEVENT
BEGIN:VEVENT
DTSTART;TZID=America/Toronto:20240703T171500
DTEND;TZID=America/Toronto:20240703T181500
DTSTAMP:20260424T094430
CREATED:20240617T142538Z
LAST-MODIFIED:20240702T210223Z
UID:10000147-1720026900-1720030500@www.villacharities.com
SUMMARY:Salsa for Seniors
DESCRIPTION:Dance your way through FREE Salsa and Latin dance lessons presented by TD Salsa in Toronto Festival\, with the best professionals in Toronto and around the GTA!
URL:https://www.villacharities.com/events/salsa-for-seniors/
LOCATION:Anthony Fusco Sr. Courtyard\, Columbus Centre\, 901 Lawrence Ave W\, Toronto\, Ontario\, M6A 1C3\, Canada
END:VEVENT
BEGIN:VEVENT
DTSTART;TZID=America/Toronto:20240703T183000
DTEND;TZID=America/Toronto:20240703T203000
DTSTAMP:20260424T094430
CREATED:20240614T203147Z
LAST-MODIFIED:20240704T134609Z
UID:10000131-1720031400-1720038600@www.villacharities.com
SUMMARY:Ballo Liscio – Outdoor Summer Edition
DESCRIPTION:The Italian tradition of Ballo Liscio continues every Wednesday all summer long in the Anthony Fusco Sr. Courtyard\, with live musical performances.
URL:https://www.villacharities.com/events/ballo-liscio-outdoor-summer-edition-2024-07-03/
LOCATION:Anthony Fusco Sr. Courtyard\, Columbus Centre\, 901 Lawrence Ave W\, Ontario\, M6A 1C3\, Canada
END:VEVENT
BEGIN:VEVENT
DTSTART;TZID=America/Toronto:20240706T113000
DTEND;TZID=America/Toronto:20240706T133000
DTSTAMP:20260424T094430
CREATED:20240617T185202Z
LAST-MODIFIED:20240617T185202Z
UID:10000151-1720265400-1720272600@www.villacharities.com
SUMMARY:Summer Solstice Festa
DESCRIPTION:Join us for our summer community event to enjoy some delicious food\, dancing and live music by Fortunato Gratta.
URL:https://www.villacharities.com/events/summer-solstice-festa/
LOCATION:Anthony Fusco Sr. Courtyard\, Columbus Centre\, 901 Lawrence Ave W\, Ontario\, M6A 1C3\, Canada
END:VEVENT
BEGIN:VEVENT
DTSTART;TZID=America/Toronto:20240710T171500
DTEND;TZID=America/Toronto:20240710T181500
DTSTAMP:20260424T094430
CREATED:20240617T142538Z
LAST-MODIFIED:20240625T184044Z
UID:10000149-1720631700-1720635300@www.villacharities.com
SUMMARY:Salsa for Seniors
DESCRIPTION:Dance your way through FREE Salsa and Latin dance lessons presented by TD Salsa in Toronto Festival\, with the best professionals in Toronto and around the GTA!
URL:https://www.villacharities.com/events/salsa-for-seniors-2024-07-10/
LOCATION:Anthony Fusco Sr. Courtyard\, Columbus Centre\, 901 Lawrence Ave W\, Ontario\, M6A 1C3\, Canada
END:VEVENT
BEGIN:VEVENT
DTSTART;TZID=America/Toronto:20240710T183000
DTEND;TZID=America/Toronto:20240710T203000
DTSTAMP:20260424T094430
CREATED:20240614T203147Z
LAST-MODIFIED:20240704T134635Z
UID:10000132-1720636200-1720643400@www.villacharities.com
SUMMARY:Ballo Liscio – Outdoor Summer Edition
DESCRIPTION:The Italian tradition of Ballo Liscio continues every Wednesday all summer long in the Anthony Fusco Sr. Courtyard\, with live musical performances.
URL:https://www.villacharities.com/events/ballo-liscio-outdoor-summer-edition-2024-07-03-2024-07-10/
LOCATION:Anthony Fusco Sr. Courtyard\, Columbus Centre\, 901 Lawrence Ave W\, Ontario\, M6A 1C3\, Canada
END:VEVENT
BEGIN:VEVENT
DTSTART;TZID=America/Toronto:20240712T110000
DTEND;TZID=America/Toronto:20240712T120000
DTSTAMP:20260424T094430
CREATED:20231102T184122Z
LAST-MODIFIED:20231102T184122Z
UID:10000037-1720782000-1720785600@www.villacharities.com
SUMMARY:Friday Chats with our CEO\, Marco DeVuono
DESCRIPTION:You can have a meeting with Marco DeVuono\, President and CEO of Villa Charities Inc.\, for a one-on-one conversation to answer any questions or to share your thoughts on our programs and services.
URL:https://www.villacharities.com/events/friday-chats-with-our-ceo-marco-devuono-9/
LOCATION:Ontario
END:VEVENT
BEGIN:VEVENT
DTSTART;TZID=America/Toronto:20240717T183000
DTEND;TZID=America/Toronto:20240717T203000
DTSTAMP:20260424T094430
CREATED:20240614T203147Z
LAST-MODIFIED:20240703T172607Z
UID:10000133-1721241000-1721248200@www.villacharities.com
SUMMARY:Ballo Liscio – Outdoor Summer Edition
DESCRIPTION:The Italian tradition of Ballo Liscio continues every Wednesday all summer long in the Anthony Fusco Sr. Courtyard\, with live musical performances.
URL:https://www.villacharities.com/events/ballo-liscio-outdoor-summer-edition-2024-07-03-2024-07-17/
LOCATION:Anthony Fusco Sr. Courtyard\, Columbus Centre\, 901 Lawrence Ave W\, Ontario\, M6A 1C3\, Canada
END:VEVENT
BEGIN:VEVENT
DTSTART;TZID=America/Toronto:20240720T190000
DTEND;TZID=America/Toronto:20240720T203000
DTSTAMP:20260424T094430
CREATED:20240528T144424Z
LAST-MODIFIED:20240528T144700Z
UID:10000130-1721502000-1721507400@www.villacharities.com
SUMMARY:Dances and Overtures
DESCRIPTION:The Greater Toronto Philharmonic Orchestra perform a selection from their popular program\, “Dances & Overtures”.
URL:https://www.villacharities.com/events/dances-and-overtures/
LOCATION:Anthony Fusco Sr. Courtyard\, Columbus Centre\, 901 Lawrence Ave W\, Ontario\, M6A 1C3\, Canada
END:VEVENT
BEGIN:VEVENT
DTSTART;TZID=America/Toronto:20240724T183000
DTEND;TZID=America/Toronto:20240724T203000
DTSTAMP:20260424T094430
CREATED:20240614T203147Z
LAST-MODIFIED:20240704T134650Z
UID:10000134-1721845800-1721853000@www.villacharities.com
SUMMARY:Ballo Liscio – Outdoor Summer Edition
DESCRIPTION:The Italian tradition of Ballo Liscio continues every Wednesday all summer long in the Anthony Fusco Sr. Courtyard\, with live musical performances.
URL:https://www.villacharities.com/events/ballo-liscio-outdoor-summer-edition-2024-07-03-2024-07-24/
LOCATION:Anthony Fusco Sr. Courtyard\, Columbus Centre\, 901 Lawrence Ave W\, Ontario\, M6A 1C3\, Canada
END:VEVENT
BEGIN:VEVENT
DTSTART;TZID=America/Toronto:20240731T183000
DTEND;TZID=America/Toronto:20240731T203000
DTSTAMP:20260424T094430
CREATED:20240614T203147Z
LAST-MODIFIED:20240704T134707Z
UID:10000136-1722450600-1722457800@www.villacharities.com
SUMMARY:Ballo Liscio – Outdoor Summer Edition
DESCRIPTION:The Italian tradition of Ballo Liscio continues every Wednesday all summer long in the Anthony Fusco Sr. Courtyard\, with live musical performances.
URL:https://www.villacharities.com/events/ballo-liscio-outdoor-summer-edition-2024-07-03-2024-07-31/
LOCATION:Anthony Fusco Sr. Courtyard\, Columbus Centre\, 901 Lawrence Ave W\, Ontario\, M6A 1C3\, Canada
END:VEVENT
END:VCALENDAR