BEGIN:VCALENDAR
VERSION:2.0
PRODID:-//Villa Charities - ECPv6.15.20//NONSGML v1.0//EN
CALSCALE:GREGORIAN
METHOD:PUBLISH
X-WR-CALNAME:Villa Charities
X-ORIGINAL-URL:https://www.villacharities.com
X-WR-CALDESC:Events for Villa Charities
REFRESH-INTERVAL;VALUE=DURATION:PT1H
X-Robots-Tag:noindex
X-PUBLISHED-TTL:PT1H
BEGIN:VTIMEZONE
TZID:America/Toronto
BEGIN:DAYLIGHT
TZOFFSETFROM:-0500
TZOFFSETTO:-0400
TZNAME:EDT
DTSTART:20250309T070000
END:DAYLIGHT
BEGIN:STANDARD
TZOFFSETFROM:-0400
TZOFFSETTO:-0500
TZNAME:EST
DTSTART:20251102T060000
END:STANDARD
BEGIN:DAYLIGHT
TZOFFSETFROM:-0500
TZOFFSETTO:-0400
TZNAME:EDT
DTSTART:20260308T070000
END:DAYLIGHT
BEGIN:STANDARD
TZOFFSETFROM:-0400
TZOFFSETTO:-0500
TZNAME:EST
DTSTART:20261101T060000
END:STANDARD
BEGIN:DAYLIGHT
TZOFFSETFROM:-0500
TZOFFSETTO:-0400
TZNAME:EDT
DTSTART:20270314T070000
END:DAYLIGHT
BEGIN:STANDARD
TZOFFSETFROM:-0400
TZOFFSETTO:-0500
TZNAME:EST
DTSTART:20271107T060000
END:STANDARD
END:VTIMEZONE
BEGIN:VEVENT
DTSTART;TZID=America/Toronto:20260807T110000
DTEND;TZID=America/Toronto:20260807T120000
DTSTAMP:20260425T220152
CREATED:20260408T134328Z
LAST-MODIFIED:20260408T134328Z
UID:10000404-1786100400-1786104000@www.villacharities.com
SUMMARY:Friday Chats with our CEO\, Marco DeVuono
DESCRIPTION:You can have a meeting with Marco DeVuono\, President and CEO of Villa Charities Inc.\, for a one-on-one conversation to answer any questions or to share your thoughts on our programs and services.
URL:https://www.villacharities.com/events/friday-chats-with-our-ceo-marco-devuono-16/
LOCATION:Ontario
END:VEVENT
BEGIN:VEVENT
DTSTART;VALUE=DATE:20260814
DTEND;VALUE=DATE:20260815
DTSTAMP:20260425T220152
CREATED:20250127T141948Z
LAST-MODIFIED:20251204T143954Z
UID:10000216-1786665600-1786751999@www.villacharities.com
SUMMARY:Summer Camp at the Columbus Centre – Closes
DESCRIPTION:
URL:https://www.villacharities.com/events/summer-camp-at-the-columbus-centre-closes-2/
LOCATION:Columbus Centre\, 901 Lawrence Avenue West\, Toronto\, ON\, M6A 1C3\, Canada
END:VEVENT
BEGIN:VEVENT
DTSTART;TZID=America/Toronto:20260816T110000
DTEND;TZID=America/Toronto:20260816T150000
DTSTAMP:20260425T220152
CREATED:20260202T205523Z
LAST-MODIFIED:20260202T205523Z
UID:10000365-1786878000-1786892400@www.villacharities.com
SUMMARY:Ferragosto
DESCRIPTION:An outdoor community event featuring food\, music\, vendors and children’s activities in celebration of Ferragosto\, the annual Italian summer holiday.
URL:https://www.villacharities.com/events/ferragosto-2/
LOCATION:Anthony Fusco Sr. Courtyard\, Columbus Centre\, 901 Lawrence Ave W\, Toronto\, Ontario\, M6A 1C3\, Canada
END:VEVENT
END:VCALENDAR