BEGIN:VCALENDAR
VERSION:2.0
PRODID:-//Villa Charities - ECPv6.15.20//NONSGML v1.0//EN
CALSCALE:GREGORIAN
METHOD:PUBLISH
X-ORIGINAL-URL:https://www.villacharities.com
X-WR-CALDESC:Events for Villa Charities
REFRESH-INTERVAL;VALUE=DURATION:PT1H
X-Robots-Tag:noindex
X-PUBLISHED-TTL:PT1H
BEGIN:VTIMEZONE
TZID:America/Toronto
BEGIN:DAYLIGHT
TZOFFSETFROM:-0500
TZOFFSETTO:-0400
TZNAME:EDT
DTSTART:20230312T070000
END:DAYLIGHT
BEGIN:STANDARD
TZOFFSETFROM:-0400
TZOFFSETTO:-0500
TZNAME:EST
DTSTART:20231105T060000
END:STANDARD
BEGIN:DAYLIGHT
TZOFFSETFROM:-0500
TZOFFSETTO:-0400
TZNAME:EDT
DTSTART:20240310T070000
END:DAYLIGHT
BEGIN:STANDARD
TZOFFSETFROM:-0400
TZOFFSETTO:-0500
TZNAME:EST
DTSTART:20241103T060000
END:STANDARD
BEGIN:DAYLIGHT
TZOFFSETFROM:-0500
TZOFFSETTO:-0400
TZNAME:EDT
DTSTART:20250309T070000
END:DAYLIGHT
BEGIN:STANDARD
TZOFFSETFROM:-0400
TZOFFSETTO:-0500
TZNAME:EST
DTSTART:20251102T060000
END:STANDARD
END:VTIMEZONE
BEGIN:VEVENT
DTSTART;TZID=America/Toronto:20240823T090000
DTEND;TZID=America/Toronto:20240823T170000
DTSTAMP:20260421T080808
CREATED:20240226T205029Z
LAST-MODIFIED:20240226T205029Z
UID:10000002-1724403600-1724432400@www.villacharities.com
SUMMARY:Summer Camp at the Columbus Centre - Closes
DESCRIPTION:
URL:https://www.villacharities.com/events/summer-camp-at-the-columbus-centre-closes/
LOCATION:Columbus Centre\, 901 Lawrence Avenue West\, Toronto\, ON\, M6A 1C3\, Canada
END:VEVENT
BEGIN:VEVENT
DTSTART;TZID=America/Toronto:20240702T090000
DTEND;TZID=America/Toronto:20240702T170000
DTSTAMP:20260421T080808
CREATED:20240226T204917Z
LAST-MODIFIED:20240226T204938Z
UID:10000001-1719910800-1719939600@www.villacharities.com
SUMMARY:Summer Camp at the Columbus Centre - Opens
DESCRIPTION:
URL:https://www.villacharities.com/events/summer-camp-at-the-columbus-centre-opens/
LOCATION:Columbus Centre\, 901 Lawrence Avenue West\, Toronto\, ON\, M6A 1C3\, Canada
END:VEVENT
BEGIN:VEVENT
DTSTART;TZID=America/Toronto:20240612T100000
DTEND;TZID=America/Toronto:20240612T113000
DTSTAMP:20260421T080808
CREATED:20240521T142151Z
LAST-MODIFIED:20240521T142658Z
UID:10000129-1718186400-1718191800@www.villacharities.com
SUMMARY:Groundbreaking Event: Villa Charities Italian Canadian Immigrant Tribute
DESCRIPTION:Help us mark the beginning of construction on this important heritage installation that will celebrate and honour Italian immigrants and their families.
URL:https://www.villacharities.com/events/groundbreaking-event-villa-charities-italian-canadian-immigrant-tribute/
LOCATION:Columbus Centre\, 901 Lawrence Avenue West\, Toronto\, ON\, M6A 1C3\, Canada
END:VEVENT
END:VCALENDAR