BEGIN:VCALENDAR
VERSION:2.0
PRODID:-//Villa Charities - ECPv6.15.20//NONSGML v1.0//EN
CALSCALE:GREGORIAN
METHOD:PUBLISH
X-ORIGINAL-URL:https://www.villacharities.com
X-WR-CALDESC:Events for Villa Charities
REFRESH-INTERVAL;VALUE=DURATION:PT1H
X-Robots-Tag:noindex
X-PUBLISHED-TTL:PT1H
BEGIN:VTIMEZONE
TZID:America/Toronto
BEGIN:DAYLIGHT
TZOFFSETFROM:-0500
TZOFFSETTO:-0400
TZNAME:EDT
DTSTART:20230312T070000
END:DAYLIGHT
BEGIN:STANDARD
TZOFFSETFROM:-0400
TZOFFSETTO:-0500
TZNAME:EST
DTSTART:20231105T060000
END:STANDARD
BEGIN:DAYLIGHT
TZOFFSETFROM:-0500
TZOFFSETTO:-0400
TZNAME:EDT
DTSTART:20240310T070000
END:DAYLIGHT
BEGIN:STANDARD
TZOFFSETFROM:-0400
TZOFFSETTO:-0500
TZNAME:EST
DTSTART:20241103T060000
END:STANDARD
BEGIN:DAYLIGHT
TZOFFSETFROM:-0500
TZOFFSETTO:-0400
TZNAME:EDT
DTSTART:20250309T070000
END:DAYLIGHT
BEGIN:STANDARD
TZOFFSETFROM:-0400
TZOFFSETTO:-0500
TZNAME:EST
DTSTART:20251102T060000
END:STANDARD
BEGIN:DAYLIGHT
TZOFFSETFROM:-0500
TZOFFSETTO:-0400
TZNAME:EDT
DTSTART:20260308T070000
END:DAYLIGHT
BEGIN:STANDARD
TZOFFSETFROM:-0400
TZOFFSETTO:-0500
TZNAME:EST
DTSTART:20261101T060000
END:STANDARD
END:VTIMEZONE
BEGIN:VEVENT
DTSTART;TZID=America/Toronto:20250325T183000
DTEND;TZID=America/Toronto:20250325T203000
DTSTAMP:20260419T114127
CREATED:20250310T184753Z
LAST-MODIFIED:20250310T184753Z
UID:10000099-1742927400-1742934600@www.villacharities.com
SUMMARY:Pasta Making Classes – Campania
DESCRIPTION:Experience Italy through this hands-on pasta-making session\, with a focus on Campania\, guided by Chef Luciano Schipano.
URL:https://www.villacharities.com/events/pasta-making-classes-campania/
LOCATION:Columbus Room\, Columbus Centre\, 901 Lawrence Avenue West\, Toronto\, ON\, M6A 1C3\, Canada
END:VEVENT
BEGIN:VEVENT
DTSTART;TZID=America/Toronto:20250311T183000
DTEND;TZID=America/Toronto:20250311T203000
DTSTAMP:20260419T114127
CREATED:20250310T184533Z
LAST-MODIFIED:20250310T184533Z
UID:10000098-1741717800-1741725000@www.villacharities.com
SUMMARY:Pasta Making Classes – Emilia-Romagna
DESCRIPTION:Experience Italy through this hands-on pasta-making session\, with a focus on Emilia-Romagna\, guided by Chef Luciano Schipano.
URL:https://www.villacharities.com/events/pasta-making-classes-emilia-romagna/
LOCATION:Columbus Room\, Columbus Centre\, 901 Lawrence Avenue West\, Toronto\, ON\, M6A 1C3\, Canada
END:VEVENT
BEGIN:VEVENT
DTSTART;TZID=America/Toronto:20250205T190000
DTEND;TZID=America/Toronto:20250205T203000
DTSTAMP:20260419T114127
CREATED:20241220T170848Z
LAST-MODIFIED:20241220T170848Z
UID:10000083-1738782000-1738787400@www.villacharities.com
SUMMARY:Books & Biscotti
DESCRIPTION:Enjoy an evening of poetry and more with Italian-Canadian authors Bruna Di Giuseppe-Bertoni\, Joe Giampaolo\, Christopher Manieri\, Gianna Patriarca and Maria Zarrone. \nRSVP by email: booksandbiscotti500@gmail.com
URL:https://www.villacharities.com/events/books-biscotti/
LOCATION:Columbus Room\, Columbus Centre\, 901 Lawrence Avenue West\, Toronto\, ON\, M6A 1C3\, Canada
END:VEVENT
BEGIN:VEVENT
DTSTART;TZID=America/Toronto:20240425T183000
DTEND;TZID=America/Toronto:20240425T203000
DTSTAMP:20260419T114127
CREATED:20240401T164308Z
LAST-MODIFIED:20240402T174804Z
UID:10000119-1714069800-1714077000@www.villacharities.com
SUMMARY:“La Nuda Eleganza” Screening
DESCRIPTION:“La Nuda Eleganza” is a heartfelt documentary that brings together diverse personal life stories and testimonials.
URL:https://www.villacharities.com/events/la-nuda-eleganza-portraits-and-memories/
LOCATION:Columbus Room\, Columbus Centre\, 901 Lawrence Avenue West\, Toronto\, ON\, M6A 1C3\, Canada
END:VEVENT
BEGIN:VEVENT
DTSTART;TZID=America/Toronto:20240221T190000
DTEND;TZID=America/Toronto:20240221T203000
DTSTAMP:20260419T114127
CREATED:20231219T201445Z
LAST-MODIFIED:20240111T012055Z
UID:10000049-1708542000-1708547400@www.villacharities.com
SUMMARY:"The South"
DESCRIPTION:Andrea Ramolo’s ‘The South’ – Community Film Screening\n“The South” documentary follows Italian-Canadian recording filmmaker and artist Andrea Ramolo to the Salento in southern Italy to explore the rich history of its folk music and dance.
URL:https://www.villacharities.com/events/website-calendar-of-events/
LOCATION:Columbus Room\, Columbus Centre\, 901 Lawrence Avenue West\, Toronto\, ON\, M6A 1C3\, Canada
END:VEVENT
END:VCALENDAR